BEGIN:VCALENDAR
VERSION:2.0
PRODID:-//Intand Corporation//Tandem//EN
METHOD:PUBLISH
BEGIN:VEVENT
DTSTAMP:20260419T132501Z
DTSTART:20260417T120000Z
DTEND:20260417T163000Z
TRANSP:TRANSPARENT
PRIORITY:0
SUMMARY:Drumline @Nutter Center
LOCATION:Dayton Nutter Center
DESCRIPTION:Groups:\nKings High School Band\n\nSchools:\nKings High School
 \n\nLocation:\nDayton Nutter Center\n\n
URL;VALUE=URI:http://kingslocal.tandem.co/index.php?type=view&action=event
 &id=53184143
CREATED:20260407T141022Z
LAST-MODIFIED:20260407T141022Z
UID:event-53184143-kingslocal@intand.com
END:VEVENT
END:VCALENDAR
