BEGIN:VCALENDAR
VERSION:2.0
PRODID:-//Intand Corporation//Tandem//EN
METHOD:PUBLISH
BEGIN:VEVENT
DTSTAMP:20260419T170240Z
DTSTART:20260504T203000Z
DTEND:20260505T035900Z
TRANSP:TRANSPARENT
PRIORITY:0
SUMMARY:TRACK AND FIELD-V Girls @ Anderson High School (Game)
LOCATION:ANDERSON HIGH SCHOOL\, Cincinnati
DESCRIPTION:Groups:\nKings High School Track & Field Girls Varsity (Away)\
 n\nSchools:\nANDERSON HIGH SCHOOL (Home)\nKings Athletics (Away)\nAnderson
  High School (Home)\n\nLocations:\nANDERSON HIGH SCHOOL\nCincinnati\n\n
URL;VALUE=URI:http://kingslocal.tandem.co/index.php?type=view&action=event
 &id=53106626
CREATED:20260304T200206Z
LAST-MODIFIED:20260312T190213Z
UID:event-53106626-kingslocal@intand.com
END:VEVENT
END:VCALENDAR
