BEGIN:VCALENDAR
VERSION:2.0
PRODID:-//Intand Corporation//Tandem//EN
METHOD:PUBLISH
BEGIN:VEVENT
DTSTAMP:20260419T133133Z
DTSTART:20260422T203000Z
DTEND:20260423T000000Z
TRANSP:TRANSPARENT
PRIORITY:0
SUMMARY:TRACK AND FIELD-V Boys @ TBA (Game)
LOCATION:ANDERSON HIGH SCHOOL\, Cincinnati
DESCRIPTION:Groups:\nKings High School Track & Field Boys Varsity (Neutral
 )\n\nSchools:\nKings Athletics (Away)\nAnderson High School (Neutral)\n\nL
 ocations:\nANDERSON HIGH SCHOOL\nCincinnati\n\n
URL;VALUE=URI:http://kingslocal.tandem.co/index.php?type=view&action=event
 &id=53106542
CREATED:20260304T200206Z
LAST-MODIFIED:20260407T190211Z
UID:event-53106542-kingslocal@intand.com
END:VEVENT
END:VCALENDAR
