BEGIN:VCALENDAR
VERSION:2.0
PRODID:-//Intand Corporation//Tandem//EN
METHOD:PUBLISH
BEGIN:VEVENT
DTSTAMP:20260419T133133Z
DTSTART:20260423T203000Z
DTEND:20260424T000000Z
TRANSP:TRANSPARENT
PRIORITY:0
SUMMARY:TRACK AND FIELD-V Boys @ TBA (Game)
LOCATION:ANDERSON HIGH SCHOOL\, Cincinnati
DESCRIPTION:Groups:\nKings High School Track & Field Boys Varsity (Away)\n
 \nSchools:\nAnderson High School (Neutral)\nKings Athletics (Away)\n\nLoca
 tions:\nANDERSON HIGH SCHOOL\nCincinnati\n\n
URL;VALUE=URI:http://kingslocal.tandem.co/index.php?type=view&action=event
 &id=53106539
CREATED:20260304T200206Z
LAST-MODIFIED:20260407T190211Z
UID:event-53106539-kingslocal@intand.com
END:VEVENT
END:VCALENDAR
