BEGIN:VCALENDAR
VERSION:2.0
PRODID:-//Intand Corporation//Tandem//EN
METHOD:PUBLISH
BEGIN:VEVENT
DTSTAMP:20260419T133219Z
DTSTART:20260413T200000Z
DTEND:20260414T035900Z
TRANSP:TRANSPARENT
PRIORITY:0
SUMMARY:Tennis-V Boys - VS Summit Country Day School (Game)
LOCATION:Tennis Courts
DESCRIPTION:Groups:\nKings High School Tennis Boys Varsity (Home)\n\nSchoo
 ls:\nKings Athletics (Home)\nSummit Country Day (Away)\n\nLocation:\nTenni
 s Courts\n\n
URL;VALUE=URI:http://kingslocal.tandem.co/index.php?type=view&action=event
 &id=53058385
CREATED:20260212T000203Z
LAST-MODIFIED:20260212T000203Z
UID:event-53058385-kingslocal@intand.com
END:VEVENT
END:VCALENDAR
